BEGIN:VCALENDAR
VERSION:2.0
PRODID:-//Home Loan Connexion - ECPv4.6.11.1//NONSGML v1.0//EN
CALSCALE:GREGORIAN
METHOD:PUBLISH
X-WR-CALNAME:Home Loan Connexion
X-ORIGINAL-URL:https://homeloanconnexion.com.au
X-WR-CALDESC:Events for Home Loan Connexion
BEGIN:VEVENT
DTSTART;TZID=Australia/Brisbane:20180202T093000
DTEND;TZID=Australia/Brisbane:20180202T120000
DTSTAMP:20180224T202434
CREATED:20170812T050157Z
LAST-MODIFIED:20170824T023141Z
UID:1938-1517563800-1517572800@homeloanconnexion.com.au
SUMMARY:HLC Broker PD Meeting - February 2018
DESCRIPTION:TOPIC: The Finance and Mortgage Brokers Guide To Creating DIY Business Videos\nSPEAKER: Kerrin Smith – Videographer\, Photographer and Principal of Easy Business Video Creation\nVideo currently makes up one-third of all internet traffic and is set to hit two-thirds by the end of 2018. With these sorts of statistics it’s crucial that HLC Brokers make the move into the world of video creation. \nIn this presentation\, Kerrin steps you through how to use your smartphone and some simple accessories to create and upload business videos. Kerrin will then share techniques on how to identify opportunities and topics for filming your business videos. \nUsing this simple guide will allow you to create a list of topics to film that will build trust with your existing audience as well as create relationships with new prospects. \nThe techniques Kerrin will be covering can be used to create video blog posts\, welcome videos and even ‘going live’ videos. She will also be explaining the best ways to maximise your business videos so that each one becomes a powerful marketing tool. \nCurrently only 9% of all small businesses are sharing videos on YouTube\, so by creating an online video presence NOW it will allow you to position you and your business as the expert in your field. \n
URL:https://homeloanconnexion.com.au/event/hlc-broker-pd-meeting/
LOCATION:102 Ipswich Road\, Woolloongabba\, Queensland\, 4102\, Australia
ORGANIZER;CN="Home%20Loan%20Connexion":MAILTO:reception@homeloanconnexion.com.au
END:VEVENT
BEGIN:VEVENT
DTSTART;TZID=Australia/Brisbane:20180228T093000
DTEND;TZID=Australia/Brisbane:20180228T123000
DTSTAMP:20180224T202434
CREATED:20171212T104013Z
LAST-MODIFIED:20171212T105207Z
UID:2857-1519810200-1519821000@homeloanconnexion.com.au
SUMMARY:HLC Directors Management Meeting - Head Office
DESCRIPTION:
URL:https://homeloanconnexion.com.au/event/directors-management-meeting-hlc-head-office/
LOCATION:Brisbane\, QLD\, 4102\, Australia
CATEGORIES:HLC Director Meeting
END:VEVENT
END:VCALENDAR